BEGIN:VCALENDAR
VERSION:2.0
PRODID:-//wp-events-plugin.com//6.4.7.2//EN
TZID:Europe/Paris
X-WR-TIMEZONE:Europe/Paris
BEGIN:VEVENT
UID:78@sudeducation72.fr
DTSTART;TZID=Europe/Paris;VALUE=DATE:20250327
DTEND;TZID=Europe/Paris;VALUE=DATE:20250329
DTSTAMP:20241008T104529Z
URL:https://www.sudeducation72.fr/events/conseil-federal-sud-education-2-5
 -2/
SUMMARY:Conseil fédéral SUD éducation (2/5)
DESCRIPTION:
END:VEVENT
BEGIN:VTIMEZONE
TZID:Europe/Paris
X-LIC-LOCATION:Europe/Paris
BEGIN:STANDARD
DTSTART:20241027T020000
TZOFFSETFROM:+0200
TZOFFSETTO:+0100
TZNAME:CET
END:STANDARD
END:VTIMEZONE
END:VCALENDAR