BEGIN:VCALENDAR
VERSION:2.0
PRODID:-//wp-events-plugin.com//6.4.7.2//EN
TZID:Europe/Paris
X-WR-TIMEZONE:Europe/Paris
BEGIN:VEVENT
UID:57@sudeducation72.fr
DTSTART;TZID=Europe/Paris:20240314T140000
DTEND;TZID=Europe/Paris:20240314T160000
DTSTAMP:20240208T115653Z
URL:https://www.sudeducation72.fr/events/conseil-syndical-solidaires-72-ma
 rs/
SUMMARY:Conseil syndical Solidaires 72 (mars)
DESCRIPTION:
END:VEVENT
BEGIN:VTIMEZONE
TZID:Europe/Paris
X-LIC-LOCATION:Europe/Paris
BEGIN:STANDARD
DTSTART:20231029T020000
TZOFFSETFROM:+0200
TZOFFSETTO:+0100
TZNAME:CET
END:STANDARD
END:VTIMEZONE
END:VCALENDAR