BEGIN:VCALENDAR
VERSION:2.0
PRODID:-//wp-events-plugin.com//6.4.7.2//EN
TZID:Europe/Paris
X-WR-TIMEZONE:Europe/Paris
BEGIN:VEVENT
UID:71@sudeducation72.fr
DTSTART;TZID=Europe/Paris:20240912T140000
DTEND;TZID=Europe/Paris:20240912T160000
DTSTAMP:20240524T081553Z
URL:https://www.sudeducation72.fr/events/conseil-syndical-solidaires-72-se
 ptembre/
SUMMARY:Conseil syndical Solidaires 72 (septembre)
DESCRIPTION:
END:VEVENT
BEGIN:VTIMEZONE
TZID:Europe/Paris
X-LIC-LOCATION:Europe/Paris
BEGIN:DAYLIGHT
DTSTART:20240331T030000
TZOFFSETFROM:+0100
TZOFFSETTO:+0200
TZNAME:CEST
END:DAYLIGHT
END:VTIMEZONE
END:VCALENDAR