BEGIN:VCALENDAR
VERSION:2.0
PRODID:-//wp-events-plugin.com//6.4.7.2//EN
TZID:Europe/Paris
X-WR-TIMEZONE:Europe/Paris
BEGIN:VEVENT
UID:9@sudeducation72.fr
DTSTART;TZID=Europe/Paris;VALUE=DATE:20221201
DTEND;TZID=Europe/Paris;VALUE=DATE:20221209
DTSTAMP:20221201T134014Z
URL:https://www.sudeducation72.fr/events/elections-professionnelles-de-la-
 fonction-publique/
SUMMARY:Elections professionnelles de la Fonction Publique
DESCRIPTION:
END:VEVENT
BEGIN:VTIMEZONE
TZID:Europe/Paris
X-LIC-LOCATION:Europe/Paris
BEGIN:STANDARD
DTSTART:20221030T020000
TZOFFSETFROM:+0200
TZOFFSETTO:+0100
TZNAME:CET
END:STANDARD
END:VTIMEZONE
END:VCALENDAR