BEGIN:VCALENDAR
VERSION:2.0
PRODID:-//wp-events-plugin.com//6.4.7.2//EN
TZID:Europe/Paris
X-WR-TIMEZONE:Europe/Paris
BEGIN:VEVENT
UID:119@sudeducation72.fr
DTSTART;TZID=Europe/Paris;VALUE=DATE:20260604
DTEND;TZID=Europe/Paris;VALUE=DATE:20260606
DTSTAMP:20260119T103042Z
URL:https://www.sudeducation72.fr/events/formation-pour-une-ecole-antiraci
 ste/
SUMMARY:Formation "Pour une école antiraciste"
DESCRIPTION:
END:VEVENT
BEGIN:VTIMEZONE
TZID:Europe/Paris
X-LIC-LOCATION:Europe/Paris
BEGIN:DAYLIGHT
DTSTART:20260329T030000
TZOFFSETFROM:+0100
TZOFFSETTO:+0200
TZNAME:CEST
END:DAYLIGHT
END:VTIMEZONE
END:VCALENDAR